BEGIN:VCALENDAR
VERSION:2.0
PRODID:-//Journey Culinary Ltd - ECPv6.15.20//NONSGML v1.0//EN
CALSCALE:GREGORIAN
METHOD:PUBLISH
X-WR-CALNAME:Journey Culinary Ltd
X-ORIGINAL-URL:https://www.journeyculinary.com
X-WR-CALDESC:Events for Journey Culinary Ltd
REFRESH-INTERVAL;VALUE=DURATION:PT1H
X-Robots-Tag:noindex
X-PUBLISHED-TTL:PT1H
BEGIN:VTIMEZONE
TZID:UTC
BEGIN:STANDARD
TZOFFSETFROM:+0000
TZOFFSETTO:+0000
TZNAME:UTC
DTSTART:20250101T000000
END:STANDARD
END:VTIMEZONE
BEGIN:VEVENT
DTSTART;TZID=UTC:20260520T180000
DTEND;TZID=UTC:20260520T203000
DTSTAMP:20260424T224502
CREATED:20260420T214719Z
LAST-MODIFIED:20260420T214725Z
UID:6465-1779300000-1779309000@www.journeyculinary.com
SUMMARY:Private Cooking Event
DESCRIPTION:Private Spanish Tapas class for 2 people
URL:https://www.journeyculinary.com/event/private-cooking-event-4/
END:VEVENT
END:VCALENDAR