BEGIN:VCALENDAR
VERSION:2.0
PRODID:-//Journey Culinary Ltd - ECPv6.15.20//NONSGML v1.0//EN
CALSCALE:GREGORIAN
METHOD:PUBLISH
X-WR-CALNAME:Journey Culinary Ltd
X-ORIGINAL-URL:https://www.journeyculinary.com
X-WR-CALDESC:Events for Journey Culinary Ltd
REFRESH-INTERVAL;VALUE=DURATION:PT1H
X-Robots-Tag:noindex
X-PUBLISHED-TTL:PT1H
BEGIN:VTIMEZONE
TZID:UTC
BEGIN:STANDARD
TZOFFSETFROM:+0000
TZOFFSETTO:+0000
TZNAME:UTC
DTSTART:20250101T000000
END:STANDARD
END:VTIMEZONE
BEGIN:VEVENT
DTSTART;TZID=UTC:20260531T103000
DTEND;TZID=UTC:20260531T133000
DTSTAMP:20260424T225219
CREATED:20260415T215935Z
LAST-MODIFIED:20260415T215935Z
UID:6459-1780223400-1780234200@www.journeyculinary.com
SUMMARY:Basics & Fundamentals Course Series
DESCRIPTION:2 classes of 3 hours each\nStart cooking with more confidence\nLearn new cooking techniques & methods\n70% of your time in this program will be spent cooking\nGreat intro to some of the best world’s cuisines: Spanish\, Mediterranean and Peruvian\n\nTime: 10:30 am to 1:30 pm. \nCost: $355 per person\nPrice includes tuition\, class materials and meals.
URL:https://www.journeyculinary.com/event/basics-fundamentals-course-series-4/
END:VEVENT
END:VCALENDAR